BEGIN:VCALENDAR
VERSION:2.0
PRODID:-//Belicious Waffles - ECPv6.15.20//NONSGML v1.0//EN
CALSCALE:GREGORIAN
METHOD:PUBLISH
X-ORIGINAL-URL:https://beliciouswaffles.com
X-WR-CALDESC:Events for Belicious Waffles
REFRESH-INTERVAL;VALUE=DURATION:PT1H
X-Robots-Tag:noindex
X-PUBLISHED-TTL:PT1H
BEGIN:VTIMEZONE
TZID:UTC
BEGIN:STANDARD
TZOFFSETFROM:+0000
TZOFFSETTO:+0000
TZNAME:UTC
DTSTART:20230101T000000
END:STANDARD
END:VTIMEZONE
BEGIN:VEVENT
DTSTART;TZID=UTC:20260329T090000
DTEND;TZID=UTC:20260329T130000
DTSTAMP:20260425T102613
CREATED:20230609T021419Z
LAST-MODIFIED:20260316T232640Z
UID:549-1774774800-1774789200@beliciouswaffles.com
SUMMARY:Heirloom Farmers Market\, Rillito Park
DESCRIPTION:We attend this wonderful market with the booth and most of the time with the food trailer! If you’re planning to get a fresh waffle of the trailer\, make sure to check our weekly schedule posts on our social media\, to see if the trailer will be attending the day you plan a visit to this market.\nTucson’s largest year-round farmers market is located in the Southeast corner of Rillito Park\, along the bike trail known as The Loop. The weekly Sunday Rillito Park Farmers Market hosts farmers\, ranchers and artisan food purveyors featuring local produce and fresh cuisine. \nThis flagship market has now become one of Tucson’s special gastronomy destinations for the community. The four pavilions provide shade for a 5\,000 square foot shopping area\, and along with the center entertainment circle\, host a variety of small businesses. \n 
URL:https://beliciouswaffles.com/event/https-www-heirloomfm-org-markets-rillito-park/
LOCATION:Rillito Park\, 4502 North 1st Avenue\, Tucson\, 85719\, United States
ATTACH;FMTTYPE=image/jpeg:https://beliciouswaffles.com/wp-content/uploads/2023/06/HFMarket-Rillito.jpg
END:VEVENT
BEGIN:VEVENT
DTSTART;TZID=UTC:20260328T090000
DTEND;TZID=UTC:20260328T130000
DTSTAMP:20260425T102613
CREATED:20230131T030945Z
LAST-MODIFIED:20260316T233120Z
UID:465-1774688400-1774702800@beliciouswaffles.com
SUMMARY:Heirloom Farmers Market\, Oro Valley
DESCRIPTION:The Oro Valley Farmers Market sets up every Saturday morning at Steam Pump Ranch\, nestled at the base of the Catalina Mountains’ Pusch Ridge along the Northwest Oracle Road corridor. Since 2004\, the Oro Valley Farmers Market supports local farms\, ranches\, and small food purveyors. Friends\, families and neighbors stroll the grounds of Steam Pump Ranch\, where historic preservation of the buildings\, farming artifacts and heritage gardens are showcased. The Oro Valley Farmers Market operates year-round\, offering seasonal bounty from the surrounding farming communities. Visitors will find local fruits and vegetables\, as well as beef\, pork and farm fresh eggs – carrying on the ranch’s agricultural traditions. And of course our delicious Belgian waffles!
URL:https://beliciouswaffles.com/event/465/
LOCATION:Steam pump Ranch Farmers Market\, 10901 North Oracle Road\, Oro Valley\, AZ\, 85737\, United States
ATTACH;FMTTYPE=image/jpeg:https://beliciouswaffles.com/wp-content/uploads/2023/01/Heirloom-market.jpg
END:VEVENT
BEGIN:VEVENT
DTSTART;TZID=UTC:20260327T090000
DTEND;TZID=UTC:20260327T130000
DTSTAMP:20260425T102613
CREATED:20240906T033143Z
LAST-MODIFIED:20260325T223457Z
UID:853-1774602000-1774616400@beliciouswaffles.com
SUMMARY:Heirloom Farmers Market Udall Park
DESCRIPTION:Located in the heart of Tucson’s east side at the north entrance of the expansive 173-acre Morris K. Udall Park\, the Friday Udall Park Farmers Market is an ideal place for locals to connect with their farmers and food producers each week. \nThe Udall Park Farmers Market brings the best of local food to Tucson’s east side\, with over 40 vendors offering local and organic produce\, farm-fresh eggs\, Arizona grass-fed beef\, local honey\, fresh locally roasted coffee\, baked goods\, salsa\, tortillas\, freshly roasted vegetables\, pet products\, soaps and more. The Friday morning farmers market is clearly visible from Tanque Verde road and can be easily accessed by both the SunTran and Udall Transit system. The Udall Park Farmers Market welcomes SNAP/EBT customers and offers the matching program Double Up Food Bucks AZ. This accessible and inclusive family-friendly market is the perfect place to enjoy fresh food and one of Tucson’s greatest parks.
URL:https://beliciouswaffles.com/event/heirloom-market-udall-park/
LOCATION:Udall Park\, 7202 E. Tanque Verde Rd\, Tucson\, Arizona\, 85715
ATTACH;FMTTYPE=image/jpeg:https://beliciouswaffles.com/wp-content/uploads/2024/09/IMG_0643-scaled.jpg
END:VEVENT
BEGIN:VEVENT
DTSTART;TZID=UTC:20260322T100000
DTEND;TZID=UTC:20260322T170000
DTSTAMP:20260425T102613
CREATED:20230820T223116Z
LAST-MODIFIED:20260106T232605Z
UID:629-1774173600-1774198800@beliciouswaffles.com
SUMMARY:4th Avenue Spring Street Fair
DESCRIPTION:The Fourth Avenue Street Fair\, held bi-annually in the historic district of Tucson\, AZ\, is recognized as one of the premier community celebrations in the Southwest\, it is a Top 100 event both nationally and internationally. \nWe invite you to participate in this Tucson tradition\, which attracts more than 350\,000 visitors. This family-friendly event promotes original\, hand-made art\, with 350+ artists from around the world. \nThe Fair offers something for everyone including live entertainment\, buskers\, 40+ food vendors\, beer\, and our local 4th Avenue merchants. \nAdmission is free of charge to the public.
URL:https://beliciouswaffles.com/event/4th-avenue-street-fair/
LOCATION:4th ave Street Fair\, AZ\, United States
ATTACH;FMTTYPE=image/jpeg:https://beliciouswaffles.com/wp-content/uploads/2023/08/IMG_9417.jpg
END:VEVENT
BEGIN:VEVENT
DTSTART;TZID=UTC:20260321T100000
DTEND;TZID=UTC:20260321T180000
DTSTAMP:20260425T102613
CREATED:20230820T223504Z
LAST-MODIFIED:20260106T232450Z
UID:636-1774087200-1774116000@beliciouswaffles.com
SUMMARY:4th Avenue Spring Street Fair
DESCRIPTION:The Fourth Avenue Street Fair\, held bi-annually in the historic district of Tucson\, AZ\, is recognized as one of the premier community celebrations in the Southwest\, it is a Top 100 event both nationally and internationally.\nWe invite you to participate in this Tucson tradition\, which attracts more than 350\,000 visitors. This family-friendly event promotes original\, hand-made art\, with 350+ artists from around the world.\nThe Fair offers something for everyone including live entertainment\, buskers\, 40+ food vendors\, beer\, and our local 4th Avenue merchants. \nAdmission is free of charge to the public.
URL:https://beliciouswaffles.com/event/4th-avenue-street-fair-3/
LOCATION:4th ave Street Fair\, AZ\, United States
ATTACH;FMTTYPE=image/jpeg:https://beliciouswaffles.com/wp-content/uploads/2023/08/IMG_9417.jpg
END:VEVENT
BEGIN:VEVENT
DTSTART;TZID=UTC:20260320T100000
DTEND;TZID=UTC:20260320T180000
DTSTAMP:20260425T102613
CREATED:20230820T223318Z
LAST-MODIFIED:20260106T232811Z
UID:634-1774000800-1774029600@beliciouswaffles.com
SUMMARY:4th Avenue Spring Street Fair
DESCRIPTION:The Fourth Avenue Street Fair\, held bi-annually in the historic district of Tucson\, AZ\, is recognized as one of the premier community celebrations in the Southwest\, it is a Top 100 event both nationally and internationally.\nWe invite you to participate in this Tucson tradition\, which attracts more than 350\,000 visitors. This family-friendly event promotes original\, hand-made art\, with 350+ artists from around the world.\nThe Fair offers something for everyone including live entertainment\, buskers\, 40+ food vendors\, beer\, and our local 4th Avenue merchants. \nAdmission is free of charge to the public.
URL:https://beliciouswaffles.com/event/4th-avenue-street-fair-2/
LOCATION:4th ave Street Fair\, AZ\, United States
ATTACH;FMTTYPE=image/jpeg:https://beliciouswaffles.com/wp-content/uploads/2023/08/IMG_9417.jpg
END:VEVENT
BEGIN:VEVENT
DTSTART;TZID=UTC:20260228T060000
DTEND;TZID=UTC:20260228T180000
DTSTAMP:20260425T102613
CREATED:20250211T000800Z
LAST-MODIFIED:20260226T012820Z
UID:1023-1772258400-1772301600@beliciouswaffles.com
SUMMARY:Belgian Waffle Ride
DESCRIPTION:Welkom to the first stop of the Belgian Waffle Ride Quad-Tripel Crown of Gravel Series — the Fourth Annual BWR Arizona\, known as the Hell of the North Desert…  \nThe 2026 Belgian Waffle Ride Arizona is something we cannot wait to share with you. It’ll be a unique experience\, one known as the Hell of the North Desert. This will be the first of four BWRs that comprise the Quad-Tripel Crown of Gravel\, with BWR CA\, BWR UT\, and BWR Montana in Bozeman\, respectively. \nYou can find us at the Belgian Waffle Ride which will be held at the McDowell Mountain Staging Area in North Scottsdale.
URL:https://beliciouswaffles.com/event/belgian-waffle-ride/
LOCATION:Mc Dowell Mountain Park\, Mc Dowell Mountain Park staging area\, North Scottsdale\, United States
ATTACH;FMTTYPE=image/webp:https://beliciouswaffles.com/wp-content/uploads/2023/01/Screenshot_2026-02-19_at_1.47.39_PM_1200x.png.webp
END:VEVENT
BEGIN:VEVENT
DTSTART;TZID=UTC:20260227T120000
DTEND;TZID=UTC:20260227T180000
DTSTAMP:20260425T102613
CREATED:20230131T032007Z
LAST-MODIFIED:20260226T012955Z
UID:470-1772193600-1772215200@beliciouswaffles.com
SUMMARY:Belgian Waffle Ride
DESCRIPTION:Welkom to the first stop of the Belgian Waffle Ride Quad-Tripel Crown of Gravel Series — the Fourth Annual BWR Arizona\, known as the Hell of the North Desert…  \nThe 2026 Belgian Waffle Ride Arizona is something we cannot wait to share with you. It’ll be a unique experience\, one known as the Hell of the North Desert. This will be the first of four BWRs that comprise the Quad-Tripel Crown of Gravel\, with BWR CA\, BWR UT\, and BWR Montana in Bozeman\, respectively. \nYou can find us at the Belgian Waffle Ride which will be held at the McDowell Mountain Staging Area in North Scottsdale.
URL:https://beliciouswaffles.com/event/belgian-waffle-ride-2/
LOCATION:Mc Dowell Mountain Park\, Mc Dowell Mountain Park staging area\, North Scottsdale\, United States
ATTACH;FMTTYPE=image/webp:https://beliciouswaffles.com/wp-content/uploads/2023/01/Screenshot_2026-02-19_at_1.47.39_PM_1200x.png.webp
END:VEVENT
BEGIN:VEVENT
DTSTART;TZID=UTC:20260116T170000
DTEND;TZID=UTC:20260116T200000
DTSTAMP:20260425T102613
CREATED:20231129T034723Z
LAST-MODIFIED:20260106T233854Z
UID:641-1768582800-1768593600@beliciouswaffles.com
SUMMARY:La Estancia Neighborhood food truck rally
DESCRIPTION:We are always excited to be back at La Estancia Neighberhood food truck rally with our food trailer!\nWe would like to invite the community and your friends and our followers\, to come get some freshly baked yummy waffles!
URL:https://beliciouswaffles.com/event/soft-opening-of-our-food-trailer/
LOCATION:Food trailer\, NE corner Silverbell and El Camino Del Cerro\, Tucson\, AZ\, 85745\, United States
ATTACH;FMTTYPE=image/jpeg:https://beliciouswaffles.com/wp-content/uploads/2023/11/Blue-and-White-Simple-January-Welcome-Poster-Real-Estate-Flyer-2.jpg
END:VEVENT
BEGIN:VEVENT
DTSTART;TZID=UTC:20251217T090000
DTEND;TZID=UTC:20251217T130000
DTSTAMP:20260425T102613
CREATED:20240109T025019Z
LAST-MODIFIED:20251215T224519Z
UID:677-1765962000-1765976400@beliciouswaffles.com
SUMMARY:Green Valley Village Farmers Market
DESCRIPTION:Come by and see us and all the other amazing vendors at this market. We will be setup with our booth only at this market. \nAlong the I-19 corridor just south of Tucson you will find the Green Valley Village Farmers & Artisans Market\, the area’s longest-running farmers marketplace. Every Wednesday morning\, the market comes alive with a variety of small local food businesses and artisans at the Green Valley Village. This market is reminiscent of the mercados from ages past\, where merchants from the surrounding areas came to town to sell their wares. Come by to pick up fresh vegetables from our local growers. Enjoy a cup of fresh roasted coffee with delicious flaky pastries\, or treat yourself to a tasty lunch! Stroll through the market to find some of the most beautiful and unique handmade artisan goods\, jewelry\, and crafts in the Southwest. 
URL:https://beliciouswaffles.com/event/green-valley-village-farmers-market/
LOCATION:Green Valley Village Farmers Market\, 101 S. La Cañada Dr\, Green Valley\, AZ\, 85614\, United States
ATTACH;FMTTYPE=image/jpeg:https://beliciouswaffles.com/wp-content/uploads/2024/01/GreenValley_FM.jpeg
END:VEVENT
BEGIN:VEVENT
DTSTART;TZID=UTC:20251206T140000
DTEND;TZID=UTC:20251206T190000
DTSTAMP:20260425T102613
CREATED:20251116T153249Z
LAST-MODIFIED:20251116T153249Z
UID:1078-1765029600-1765047600@beliciouswaffles.com
SUMMARY:ChristKindl Markt
DESCRIPTION:You can find us at this German inspired Christmas Market with the food truck.
URL:https://beliciouswaffles.com/event/christkindl-markt/
LOCATION:Christ Lutheran Vail\, 14600 E Collosal Cave Rd\, Vail\, AZ\, United States
ATTACH;FMTTYPE=image/jpeg:https://beliciouswaffles.com/wp-content/uploads/2024/12/0-Trailer.jpg
END:VEVENT
BEGIN:VEVENT
DTSTART;TZID=UTC:20251130T100000
DTEND;TZID=UTC:20251130T170000
DTSTAMP:20260425T102613
CREATED:20240308T202332Z
LAST-MODIFIED:20251116T150406Z
UID:717-1764496800-1764522000@beliciouswaffles.com
SUMMARY:Made in Tucson
DESCRIPTION:We will attend the MinT market for the fourth time and we are happy and excited to be part of this great Tucson market again. We will be there with our booth. \nThe Coalition is a volunteer group of neighborhood folks\, business owners\, artists and activists dedicated to the preservation and protection of equity\, diversity and accessibility of the 4th Avenue District. We came together in 2017 to encourage smart development on the Avenue and have since grown into stewards of healthy localism. The Coalition is built by and for our community. We work to bring public art and voices to the Avenue District\, promote sustainable practices\, and provide support for neighbors and businesses to thrive.
URL:https://beliciouswaffles.com/event/made-in-tucson/
LOCATION:Made in Tucson\, E. 7th street\, Tucson\, AZ\, 85719\, United States
ATTACH;FMTTYPE=image/jpeg:https://beliciouswaffles.com/wp-content/uploads/2024/03/IMG_9416.jpg
END:VEVENT
BEGIN:VEVENT
DTSTART;TZID=UTC:20251115T063000
DTEND;TZID=UTC:20251115T133000
DTSTAMP:20260425T102613
CREATED:20240308T192813Z
LAST-MODIFIED:20251104T022517Z
UID:712-1763188200-1763213400@beliciouswaffles.com
SUMMARY:Garmin Tucson marathon
DESCRIPTION:We are excited to be serving Tucsons marathon runners and their friends and family at the start and finish line in downtown Tucson. \nA Boston Marathon qualifier\, the marathon kicks off at sunrise in the heart of downtown Tucson. As the course heads west\, runners transition from city streets to open terrain with a view of the Tucson Mountains. \nEarly miles move through quiet suburbs as runners stride toward Speedway Boulevard before returning to the city center. From stretches through the University of Arizona Mall to the suburban neighborhoods surrounding downtown\, cheering spectators along tree-lined streets and the colorful murals of Fourth Avenue boost the atmospheric energy of the race. \nWith gentle hills and sprawling desert views\, this course celebrates the landscape\, spirit and heart of Tucson from start to finish. \nCommon Start/Finish: The race will begin and end at the intersection of Congress Street and Granada Avenue. Participants will head west on Congress Street from the start.
URL:https://beliciouswaffles.com/event/alpha-phi/
LOCATION:Downtown Tucson marathon\, congress street\, Tucson\, AZ\, 85745\, United States
ATTACH;FMTTYPE=image/jpeg:https://beliciouswaffles.com/wp-content/uploads/2024/01/trailer-01.jpg
END:VEVENT
BEGIN:VEVENT
DTSTART;TZID=UTC:20251113T170000
DTEND;TZID=UTC:20251113T200000
DTSTAMP:20260425T102613
CREATED:20250211T001220Z
LAST-MODIFIED:20251117T235447Z
UID:1027-1763053200-1763064000@beliciouswaffles.com
SUMMARY:Saguaro Bloom community Food Truck Night
DESCRIPTION:We will be at the Saguaro Bloom Neighborhood Food Truck Night with the food trailer. It will be held by the community center from 5 until 8pm
URL:https://beliciouswaffles.com/event/saguaro-bloom-community-food-truck-night/
LOCATION:Saguaro Bloom Community\, 9909 N. Saguaro Highlands Dr.\, Marana\, AZ\, 85653\, United States
ATTACH;FMTTYPE=image/jpeg:https://beliciouswaffles.com/wp-content/uploads/2025/02/IMG_9414.jpg
END:VEVENT
BEGIN:VEVENT
DTSTART;TZID=UTC:20251025T160000
DTEND;TZID=UTC:20251025T200000
DTSTAMP:20260425T102613
CREATED:20240624T232357Z
LAST-MODIFIED:20251022T024829Z
UID:809-1761408000-1761422400@beliciouswaffles.com
SUMMARY:Saguaro Bloom halloween trunk or treat
DESCRIPTION:We will be back at the Saguaro Bloom Community for the trunk or treat event. It will be held at the clubhouse from 4pm until 7pm.
URL:https://beliciouswaffles.com/event/saguaro-bloom-food-truck-roundup/
LOCATION:Saguaro Bloom Community\, 9909 N. Saguaro Highlands Dr.\, Marana\, AZ\, 85653\, United States
ATTACH;FMTTYPE=image/jpeg:https://beliciouswaffles.com/wp-content/uploads/2024/06/561615571_806724945422029_7138894668373837639_n.jpg
END:VEVENT
BEGIN:VEVENT
DTSTART;TZID=UTC:20250704T170000
DTEND;TZID=UTC:20250704T200000
DTSTAMP:20260425T102613
CREATED:20240701T184443Z
LAST-MODIFIED:20250505T224417Z
UID:813-1751648400-1751659200@beliciouswaffles.com
SUMMARY:Stars and Stripes Sahuarita 2025
DESCRIPTION:Get ready to celebrate freedom with us at Sahuarita Stars & Stripes 2025! Join us on July 4th for an unforgettable evening featuring live performances by local bands\, with lots of vendors and food trucks to make this day unforgettable and watch the fireworks.
URL:https://beliciouswaffles.com/event/4th-of-july-starsstripes-sahuarita/
LOCATION:Anamax park\, 17501 S Camino De Las Quintas\, Sahuarita\, AZ\, United States
ATTACH;FMTTYPE=image/png:https://beliciouswaffles.com/wp-content/uploads/2024/07/images.png
END:VEVENT
BEGIN:VEVENT
DTSTART;TZID=UTC:20250327T080000
DTEND;TZID=UTC:20250327T170000
DTSTAMP:20260425T102613
CREATED:20241226T225543Z
LAST-MODIFIED:20241226T225543Z
UID:952-1743062400-1743094800@beliciouswaffles.com
SUMMARY:Saguaro Bloom Food Truck Night
DESCRIPTION:We will be at the Saguaro Bloom Neighborhood Food Truck Night with the food trailer. It will be held by the community center from 4 until 8pm
URL:https://beliciouswaffles.com/event/saguaro-bloom-food-truck-night/
LOCATION:Saguaro Bloom Community\, 9909 N. Saguaro Highlands Dr.\, Marana\, AZ\, 85653\, United States
ATTACH;FMTTYPE=image/jpeg:https://beliciouswaffles.com/wp-content/uploads/2024/01/trailer-01.jpg
END:VEVENT
BEGIN:VEVENT
DTSTART;TZID=UTC:20250301T080000
DTEND;TZID=UTC:20250301T120000
DTSTAMP:20260425T102613
CREATED:20250219T021340Z
LAST-MODIFIED:20250225T020952Z
UID:1036-1740816000-1740830400@beliciouswaffles.com
SUMMARY:Saguaro Bloom Spring Market
DESCRIPTION:We will be at the saguaro bloom community spring market with our food trailer to serve fresh\, hot waffles topped with lot’s of deliciousness to pick from.
URL:https://beliciouswaffles.com/event/saguaro-bloom-spring-market/
LOCATION:Saguaro Bloom Community\, 9909 N. Saguaro Highlands Dr.\, Marana\, AZ\, 85653\, United States
ATTACH;FMTTYPE=image/jpeg:https://beliciouswaffles.com/wp-content/uploads/2025/02/481232663_625889833505542_7500530190803623800_n.jpg
END:VEVENT
BEGIN:VEVENT
DTSTART;TZID=UTC:20241219T170000
DTEND;TZID=UTC:20241219T200000
DTSTAMP:20260425T102613
CREATED:20240817T003021Z
LAST-MODIFIED:20241218T021334Z
UID:821-1734627600-1734638400@beliciouswaffles.com
SUMMARY:SnOV Holiday Event
DESCRIPTION:Join us for the  SnOV event at the Oro Valley Community & Recreation Center.\nThe event will feature games\, crafts\, food and drinks (non-alcoholic and alcoholic) available for purchase\, a cast of holiday characters\, actual SNOW and a visit from Santa! \nWe will be there from 5 until 8pm\, serving our delicious hot freshly baked waffles with our full menu
URL:https://beliciouswaffles.com/event/821/
LOCATION:Oro Valley Community and recreation center\, 11000 North La Cañada Drive\, Oro Valley\, Arizona\, United States
ATTACH;FMTTYPE=image/jpeg:https://beliciouswaffles.com/wp-content/uploads/2024/08/snovwebbanner.jpg
END:VEVENT
BEGIN:VEVENT
DTSTART;TZID=UTC:20241006T110000
DTEND;TZID=UTC:20241006T180000
DTSTAMP:20260425T102613
CREATED:20240830T011227Z
LAST-MODIFIED:20240830T011227Z
UID:850-1728212400-1728237600@beliciouswaffles.com
SUMMARY:Tucson Meet Yourself
DESCRIPTION:We are proud and honoured to be part of this wonderful event. As a visitor\, every year we talked about how cool it would be to have Belgian Waffles at the festival. Now we are selected with our own business to attend TMY with our food trailer and bake our yummy waffles for the Tucson Community. \nFounded in 1974 by folklorist Jim Griffith and his wife\, Loma Griffith\, Tucson Meet Yourself is an annual celebration of the living traditional arts of Southern Arizona’s and Northern Mexico’s diverse ethnic and folk communities. The free\, three-day event features hundreds of artisans\, home cooks\, dancers\, musicians and special exhibits that celebrate and honor beauty in all its diverse\, informal\, and everyday forms. Tucson Meet Yourself happens annually in Downtown Tucson during the second weekend in October. \nOur mission is to research\, document\, interpret and present the living traditional arts and expressions of everyday life of the folk and ethnic communities of the multi-national Arizona-Sonora region. \nThrough our folklife festival\, we focus on presenting artists and communities that carry on living traditions rooted in a group’s own definition of identity\, artistry\, and cultural significance.
URL:https://beliciouswaffles.com/event/tucson-meet-yourself-3/
LOCATION:Tucson Meet Yourself\, 101 N Stone Ave\, Tucson\, AZ\, 85701\, United States
ATTACH;FMTTYPE=image/png:https://beliciouswaffles.com/wp-content/uploads/2024/08/mail.png
END:VEVENT
BEGIN:VEVENT
DTSTART;TZID=UTC:20241005T110000
DTEND;TZID=UTC:20241005T220000
DTSTAMP:20260425T102613
CREATED:20240830T011001Z
LAST-MODIFIED:20240830T011601Z
UID:848-1728126000-1728165600@beliciouswaffles.com
SUMMARY:Tucson Meet Yourself
DESCRIPTION:We are proud and honoured to be part of this wonderful event. As a visitor\, every year we talked about how cool it would be to have Belgian Waffles at the festival. Now we are selected with our own business to attend TMY with our food trailer and bake our yummy waffles for the Tucson Community. \nFounded in 1974 by folklorist Jim Griffith and his wife\, Loma Griffith\, Tucson Meet Yourself is an annual celebration of the living traditional arts of Southern Arizona’s and Northern Mexico’s diverse ethnic and folk communities. The free\, three-day event features hundreds of artisans\, home cooks\, dancers\, musicians and special exhibits that celebrate and honor beauty in all its diverse\, informal\, and everyday forms. Tucson Meet Yourself happens annually in Downtown Tucson during the second weekend in October. \nOur mission is to research\, document\, interpret and present the living traditional arts and expressions of everyday life of the folk and ethnic communities of the multi-national Arizona-Sonora region. \nThrough our folklife festival\, we focus on presenting artists and communities that carry on living traditions rooted in a group’s own definition of identity\, artistry\, and cultural significance.
URL:https://beliciouswaffles.com/event/tucson-meet-yourself-2/
LOCATION:Tucson Meet Yourself\, 101 N Stone Ave\, Tucson\, AZ\, 85701\, United States
ATTACH;FMTTYPE=image/png:https://beliciouswaffles.com/wp-content/uploads/2024/08/mail.png
END:VEVENT
BEGIN:VEVENT
DTSTART;TZID=UTC:20241004T110000
DTEND;TZID=UTC:20241004T220000
DTSTAMP:20260425T102613
CREATED:20240830T005007Z
LAST-MODIFIED:20240830T011422Z
UID:839-1728039600-1728079200@beliciouswaffles.com
SUMMARY:Tucson Meet Yourself
DESCRIPTION:We are proud and honoured to be part of this wonderful event. As a visitor\, every year we talked about how cool it would be to have Belgian Waffles at the festival. Now we are selected with our own business to attend TMY with our food trailer and bake our yummy waffles for the Tucson Community. \nFounded in 1974 by folklorist Jim Griffith and his wife\, Loma Griffith\, Tucson Meet Yourself is an annual celebration of the living traditional arts of Southern Arizona’s and Northern Mexico’s diverse ethnic and folk communities. The free\, three-day event features hundreds of artisans\, home cooks\, dancers\, musicians and special exhibits that celebrate and honor beauty in all its diverse\, informal\, and everyday forms. Tucson Meet Yourself happens annually in Downtown Tucson during the second weekend in October. \nOur mission is to research\, document\, interpret and present the living traditional arts and expressions of everyday life of the folk and ethnic communities of the multi-national Arizona-Sonora region. \nThrough our folklife festival\, we focus on presenting artists and communities that carry on living traditions rooted in a group’s own definition of identity\, artistry\, and cultural significance.
URL:https://beliciouswaffles.com/event/tucson-meet-yourself/
LOCATION:Tucson Meet Yourself\, 101 N Stone Ave\, Tucson\, AZ\, 85701\, United States
ATTACH;FMTTYPE=image/png:https://beliciouswaffles.com/wp-content/uploads/2024/08/mail.png
END:VEVENT
END:VCALENDAR