BEGIN:VCALENDAR
VERSION:2.0
PRODID:-//Belicious Waffles - ECPv6.15.20//NONSGML v1.0//EN
CALSCALE:GREGORIAN
METHOD:PUBLISH
X-ORIGINAL-URL:https://beliciouswaffles.com
X-WR-CALDESC:Events for Belicious Waffles
REFRESH-INTERVAL;VALUE=DURATION:PT1H
X-Robots-Tag:noindex
X-PUBLISHED-TTL:PT1H
BEGIN:VTIMEZONE
TZID:UTC
BEGIN:STANDARD
TZOFFSETFROM:+0000
TZOFFSETTO:+0000
TZNAME:UTC
DTSTART:20250101T000000
END:STANDARD
END:VTIMEZONE
BEGIN:VEVENT
DTSTART;TZID=UTC:20260327T090000
DTEND;TZID=UTC:20260327T130000
DTSTAMP:20260425T121633
CREATED:20240906T033143Z
LAST-MODIFIED:20260325T223457Z
UID:853-1774602000-1774616400@beliciouswaffles.com
SUMMARY:Heirloom Farmers Market Udall Park
DESCRIPTION:Located in the heart of Tucson’s east side at the north entrance of the expansive 173-acre Morris K. Udall Park\, the Friday Udall Park Farmers Market is an ideal place for locals to connect with their farmers and food producers each week. \nThe Udall Park Farmers Market brings the best of local food to Tucson’s east side\, with over 40 vendors offering local and organic produce\, farm-fresh eggs\, Arizona grass-fed beef\, local honey\, fresh locally roasted coffee\, baked goods\, salsa\, tortillas\, freshly roasted vegetables\, pet products\, soaps and more. The Friday morning farmers market is clearly visible from Tanque Verde road and can be easily accessed by both the SunTran and Udall Transit system. The Udall Park Farmers Market welcomes SNAP/EBT customers and offers the matching program Double Up Food Bucks AZ. This accessible and inclusive family-friendly market is the perfect place to enjoy fresh food and one of Tucson’s greatest parks.
URL:https://beliciouswaffles.com/event/heirloom-market-udall-park/
LOCATION:Udall Park\, 7202 E. Tanque Verde Rd\, Tucson\, Arizona\, 85715
ATTACH;FMTTYPE=image/jpeg:https://beliciouswaffles.com/wp-content/uploads/2024/09/IMG_0643-scaled.jpg
END:VEVENT
END:VCALENDAR