BEGIN:VCALENDAR
VERSION:2.0
PRODID:-//Belicious Waffles - ECPv6.15.20//NONSGML v1.0//EN
CALSCALE:GREGORIAN
METHOD:PUBLISH
X-ORIGINAL-URL:https://beliciouswaffles.com
X-WR-CALDESC:Events for Belicious Waffles
REFRESH-INTERVAL;VALUE=DURATION:PT1H
X-Robots-Tag:noindex
X-PUBLISHED-TTL:PT1H
BEGIN:VTIMEZONE
TZID:UTC
BEGIN:STANDARD
TZOFFSETFROM:+0000
TZOFFSETTO:+0000
TZNAME:UTC
DTSTART:20250101T000000
END:STANDARD
END:VTIMEZONE
BEGIN:VEVENT
DTSTART;TZID=UTC:20260320T100000
DTEND;TZID=UTC:20260320T180000
DTSTAMP:20260425T121619
CREATED:20230820T223318Z
LAST-MODIFIED:20260106T232811Z
UID:634-1774000800-1774029600@beliciouswaffles.com
SUMMARY:4th Avenue Spring Street Fair
DESCRIPTION:The Fourth Avenue Street Fair\, held bi-annually in the historic district of Tucson\, AZ\, is recognized as one of the premier community celebrations in the Southwest\, it is a Top 100 event both nationally and internationally.\nWe invite you to participate in this Tucson tradition\, which attracts more than 350\,000 visitors. This family-friendly event promotes original\, hand-made art\, with 350+ artists from around the world.\nThe Fair offers something for everyone including live entertainment\, buskers\, 40+ food vendors\, beer\, and our local 4th Avenue merchants. \nAdmission is free of charge to the public.
URL:https://beliciouswaffles.com/event/4th-avenue-street-fair-2/
LOCATION:4th ave Street Fair\, AZ\, United States
ATTACH;FMTTYPE=image/jpeg:https://beliciouswaffles.com/wp-content/uploads/2023/08/IMG_9417.jpg
END:VEVENT
END:VCALENDAR